BEGIN:VCALENDAR
VERSION:2.0
PRODID:-//Curated Momentum Inc. - ECPv6.15.15//NONSGML v1.0//EN
CALSCALE:GREGORIAN
METHOD:PUBLISH
X-ORIGINAL-URL:https://curatedmomentum.com
X-WR-CALDESC:Events for Curated Momentum Inc.
REFRESH-INTERVAL;VALUE=DURATION:PT1H
X-Robots-Tag:noindex
X-PUBLISHED-TTL:PT1H
BEGIN:VTIMEZONE
TZID:America/New_York
BEGIN:DAYLIGHT
TZOFFSETFROM:-0500
TZOFFSETTO:-0400
TZNAME:EDT
DTSTART:20240310T070000
END:DAYLIGHT
BEGIN:STANDARD
TZOFFSETFROM:-0400
TZOFFSETTO:-0500
TZNAME:EST
DTSTART:20241103T060000
END:STANDARD
BEGIN:DAYLIGHT
TZOFFSETFROM:-0500
TZOFFSETTO:-0400
TZNAME:EDT
DTSTART:20250309T070000
END:DAYLIGHT
BEGIN:STANDARD
TZOFFSETFROM:-0400
TZOFFSETTO:-0500
TZNAME:EST
DTSTART:20251102T060000
END:STANDARD
BEGIN:DAYLIGHT
TZOFFSETFROM:-0500
TZOFFSETTO:-0400
TZNAME:EDT
DTSTART:20260308T070000
END:DAYLIGHT
BEGIN:STANDARD
TZOFFSETFROM:-0400
TZOFFSETTO:-0500
TZNAME:EST
DTSTART:20261101T060000
END:STANDARD
END:VTIMEZONE
BEGIN:VEVENT
DTSTART;TZID=America/New_York:20251211T080000
DTEND;TZID=America/New_York:20251211T170000
DTSTAMP:20260420T135556
CREATED:20251210T075351Z
LAST-MODIFIED:20251210T075440Z
UID:10000001-1765440000-1765472400@curatedmomentum.com
SUMMARY:Pellentesque Sapien Leo
DESCRIPTION:Donec feugiat\, arcu ac semper facilisis\, odio diam ultrices risus\, id posuere leo justo quis enim. Vivamus ultricies vulputate quam\, pretium faucibus sem cursus vel.
URL:https://curatedmomentum.com/event/pellentesque-sapien-leo/
ATTACH;FMTTYPE=image/jpeg:https://curatedmomentum.com/wp-content/uploads/2025/12/2161808485-scaled.jpg
END:VEVENT
END:VCALENDAR